BEGIN:VCALENDAR
VERSION:2.0
PRODID:-//Durable &#038; Cie - ECPv6.2.0.1//NONSGML v1.0//EN
CALSCALE:GREGORIAN
METHOD:PUBLISH
X-ORIGINAL-URL:https://durableetcie.fr
X-WR-CALDESC:évènements pour Durable &#038; Cie
REFRESH-INTERVAL;VALUE=DURATION:PT1H
X-Robots-Tag:noindex
X-PUBLISHED-TTL:PT1H
BEGIN:VTIMEZONE
TZID:Europe/Zurich
BEGIN:DAYLIGHT
TZOFFSETFROM:+0100
TZOFFSETTO:+0200
TZNAME:CEST
DTSTART:20230326T010000
END:DAYLIGHT
BEGIN:STANDARD
TZOFFSETFROM:+0200
TZOFFSETTO:+0100
TZNAME:CET
DTSTART:20231029T010000
END:STANDARD
END:VTIMEZONE
BEGIN:VEVENT
DTSTART;TZID=Europe/Zurich:20231005T120000
DTEND;TZID=Europe/Zurich:20231005T143000
DTSTAMP:20260423T224916
CREATED:20230908T075911Z
LAST-MODIFIED:20230908T080341Z
UID:28989-1696507200-1696516200@durableetcie.fr
SUMMARY:Fresque de la Mobilité
DESCRIPTION:Inscription obligatoire avant le 04/10 : https://www.billetweb.fr/fresque-de-la-mobilite\n\nLa Fresque de la Mobilité\, conçue par les Shifters\, l’association de soutien du think tank The Shift Project\, est un atelier collaboratif de sensibilisation aux enjeux carbone de la mobilité des personnes afin d’agir sur le premier poste d’émission de gaz à effet de serre en France.\nElle fait la part belle aux leviers d’action que chacun peut actionner : particulier\, entreprise\, collectivité.\nPour les novices comme pour les experts\, elle permet de mieux comprendre comment adopter individuellement et collectivement une mobilité plus sobre.\n\nCette édition\, dans le cadre des Semaines de l’Entrepreneuriat Durable s’adressera particulièrement à des entrepreneurs ou responsables d’entreprise désireux de réduire l’impact de leur activité via le levier de la mobilité.\n\n\nTarifs :\nAtelier d’environ 2h30\, de 12h à 14h30. Pour le bon déroulement de l’atelier\, merci de vous présenter à l’heure.\nLe prix du billet permettra de rémunérer l’intervenant. Possibilité de déjeuner durant l’atelier avec les plats proposés par notre lieu d’accueil Aquiu (à vos frais).\n6 participants minimum\, si le quota n’est pas atteint\, l’atelier sera annulé et les inscrits remboursés.\n\nLieu et Accessibilité :\nL’atelier se déroulera dans le café Aquiu\, passage carnot à Pau.\nPour vos déplacements\, privilégiez la mobilité douce\, le lieu est accessible en vélo et bus.
URL:https://durableetcie.fr/event/fresque-de-la-mobilite/
LOCATION:Aquiu\, 28 rue Carnot\, Pau\, 64000\, France
CATEGORIES:Ateliers pratiques
ATTACH;FMTTYPE=image/png:https://durableetcie.fr/wp-content/uploads/2023/09/1005-FMob-S.png
ORGANIZER;CN="Durable%20%26%20Cie":MAILTO:contact@bettydufour.fr
END:VEVENT
END:VCALENDAR