BEGIN:VCALENDAR
VERSION:2.0
PRODID:-//Durable &#038; Cie - ECPv6.2.0.1//NONSGML v1.0//EN
CALSCALE:GREGORIAN
METHOD:PUBLISH
X-WR-CALNAME:Durable &#038; Cie
X-ORIGINAL-URL:https://durableetcie.fr
X-WR-CALDESC:évènements pour Durable &#038; Cie
REFRESH-INTERVAL;VALUE=DURATION:PT1H
X-Robots-Tag:noindex
X-PUBLISHED-TTL:PT1H
BEGIN:VTIMEZONE
TZID:Europe/Zurich
BEGIN:DAYLIGHT
TZOFFSETFROM:+0100
TZOFFSETTO:+0200
TZNAME:CEST
DTSTART:20230326T010000
END:DAYLIGHT
BEGIN:STANDARD
TZOFFSETFROM:+0200
TZOFFSETTO:+0100
TZNAME:CET
DTSTART:20231029T010000
END:STANDARD
END:VTIMEZONE
BEGIN:VEVENT
DTSTART;TZID=Europe/Zurich:20231004T090000
DTEND;TZID=Europe/Zurich:20231004T123000
DTSTAMP:20260423T224836
CREATED:20230908T081849Z
LAST-MODIFIED:20230908T081849Z
UID:28999-1696410000-1696422600@durableetcie.fr
SUMMARY:Engager son entreprise dans la transition écologique avec la méthodologie LEGO® SERIOUS PLAY® 
DESCRIPTION:Inscription obligatoire avant le 3/10 : https://www.billetweb.fr/engager-son-entreprise-dans-la-transition-ecologique-avec-la-methodologie-lego-serious-play \nLa méthodologie LEGO® SERIOUS PLAY® permet de résoudre des problèmes de façon ludique et innovante et d’envisager l’entreprise\, le travail\, les projets et les relations d’équipe autrement. Elle vise à favoriser l’optimisation et la performance collective\, de façon durable et équilibrée. N’est-ce pas au cœur des priorités des dirigeants et leurs collaborateurs dans le monde d’aujourd’hui ?\nVenez découvrir et expérimenter cette approche dont l’originalité repose sur :\nLa puissance du « savoir par les mains »\nL’importance de la contribution de chacun pour l’édification d’un projet commun\nLe « jeu sérieux » gage de créativité et de coopération\nL’expérimentation comme facteur clef de succès \nCet atelier\, organisé dans le cadre des Semaines de l’Entrepreneuriat Durable s’adressera particulièrement à des entrepreneurs ou responsables d’entreprise désireux de réfléchir à comment engager leur entreprise dans la transition écologique. \nTarif libre et conscient :\nAtelier d’environ 3h30\, de 9h à 12h30. Pour le bon déroulement de l’atelier\, merci de vous présenter à l’heure.\nPrix libre et conscient\, signification des montants suggérés :\n10 € pour la salle\, les temps d’accueil et de convivialité\n25 € pour la salle\, les temps de convivialité\, la préparation de l’atelier et le matériel dédié\n50 € pour la salle\, les temps de convivialité\, la préparation de l’atelier\, le matériel dédié et une heure d’animation\n6 participants minimum\, si le quota n’est pas atteint\, l’atelier sera annulé et les inscrits remboursés. \nLieu et Accessibilité :\nL’atelier se déroulera à Pau Cité Multimédia.\nPour vos déplacements\, privilégiez la mobilité douce\, le lieu est accessible en vélo et bus.
URL:https://durableetcie.fr/event/engager-son-entreprise-dans-la-transition-ecologique-avec-la-methodologie-lego-serious-play/
LOCATION:Pau Cité Multimédia\, rue Thomas Edison\, Pau\, 64000
CATEGORIES:Ateliers pratiques
ATTACH;FMTTYPE=image/png:https://durableetcie.fr/wp-content/uploads/2023/09/1004-LSP-S.png
ORGANIZER;CN="Durable%20%26%20Cie":MAILTO:contact@bettydufour.fr
END:VEVENT
END:VCALENDAR