BEGIN:VCALENDAR
VERSION:2.0
PRODID:-//Durable &#038; Cie - ECPv6.2.0.1//NONSGML v1.0//EN
CALSCALE:GREGORIAN
METHOD:PUBLISH
X-ORIGINAL-URL:https://durableetcie.fr
X-WR-CALDESC:évènements pour Durable &#038; Cie
REFRESH-INTERVAL;VALUE=DURATION:PT1H
X-Robots-Tag:noindex
X-PUBLISHED-TTL:PT1H
BEGIN:VTIMEZONE
TZID:Europe/Zurich
BEGIN:DAYLIGHT
TZOFFSETFROM:+0100
TZOFFSETTO:+0200
TZNAME:CEST
DTSTART:20230326T010000
END:DAYLIGHT
BEGIN:STANDARD
TZOFFSETFROM:+0200
TZOFFSETTO:+0100
TZNAME:CET
DTSTART:20231029T010000
END:STANDARD
END:VTIMEZONE
BEGIN:VEVENT
DTSTART;TZID=Europe/Zurich:20231003T100000
DTEND;TZID=Europe/Zurich:20231003T130000
DTSTAMP:20260423T224946
CREATED:20230912T095947Z
LAST-MODIFIED:20230912T095947Z
UID:29046-1696327200-1696338000@durableetcie.fr
SUMMARY:Fresque de la RSE
DESCRIPTION:Lien d’inscription à venir (si vous souhaitez le recevoir par mail dès qu’il sera disponible\, écrivez à bonjour@durableetcie.fr ) \nLa Fresque de la RSE\, c’est un atelier innovant et collaboratif pour vivre le fonctionnement de la Responsabilité Sociale des Entreprises et ses conséquences sur la Planète \nL’objectif du jeu est de trouver les liens de cause à effet entre les cartes et de construire une fresque pour comprendre le fonctionnement de la Responsabilité Sociétale de l’entreprise et les conséquences sur les activités quotidiennes de son entreprise. \nDeux heures pour co-construire la fresque\, découvrir et mettre en lien les cartes et utiliser la facilitation graphique pour mettre en valeur les liens évoqués\,\n30 minutes pour comprendre le rôle des parties prenantes dans les enjeux RSE d’une organisation\n30 minutes pour échanger sur les solution de la Fresque de la RSE en construisant son plan d’actions individuelles pour imaginer des actions concrètes à impact \nCet atelier se déroulera dans une salle de réunion de la Résidence Habitat Jeunes Pau Pyrénées Gaston Marsan. Chemin de la Saligue\, 64110 Gelos. \nPour vos déplacements\, privilégiez la mobilité douce : Accessible en vélo via la piste cyclable des Rives du Gave (env 15 min depuis la Gare de Pau)\, Accessible en bus\, ligne 5\, arrêt Liberté (+7min à pied).
URL:https://durableetcie.fr/event/fresque-de-la-rse/
LOCATION:Résidence Gaston Marsan\, Chemin de la Saligue\, Gelos\, 64110
CATEGORIES:Ateliers pratiques
ATTACH;FMTTYPE=image/png:https://durableetcie.fr/wp-content/uploads/2023/09/1003-FRSE-S.png
ORGANIZER;CN="Durable%20%26%20Cie":MAILTO:contact@bettydufour.fr
END:VEVENT
END:VCALENDAR