BEGIN:VCALENDAR
VERSION:2.0
PRODID:-//Durable &#038; Cie - ECPv6.2.0.1//NONSGML v1.0//EN
CALSCALE:GREGORIAN
METHOD:PUBLISH
X-WR-CALNAME:Durable &#038; Cie
X-ORIGINAL-URL:https://durableetcie.fr
X-WR-CALDESC:évènements pour Durable &#038; Cie
REFRESH-INTERVAL;VALUE=DURATION:PT1H
X-Robots-Tag:noindex
X-PUBLISHED-TTL:PT1H
BEGIN:VTIMEZONE
TZID:Europe/Zurich
BEGIN:DAYLIGHT
TZOFFSETFROM:+0100
TZOFFSETTO:+0200
TZNAME:CEST
DTSTART:20230326T010000
END:DAYLIGHT
BEGIN:STANDARD
TZOFFSETFROM:+0200
TZOFFSETTO:+0100
TZNAME:CET
DTSTART:20231029T010000
END:STANDARD
END:VTIMEZONE
BEGIN:VEVENT
DTSTART;TZID=Europe/Zurich:20230928T090000
DTEND;TZID=Europe/Zurich:20230928T120000
DTSTAMP:20260423T224859
CREATED:20230912T094241Z
LAST-MODIFIED:20230912T094241Z
UID:29026-1695891600-1695902400@durableetcie.fr
SUMMARY:Fresque du Numérique
DESCRIPTION:Inscription obligatoire avant le 27/09 : https://www.billetweb.fr/fresque-du-numerique8 \nLa Fresque du Numérique est un atelier ludique et collaboratif dont le but est de sensibiliser et former les participant·e·s aux enjeux environnementaux du numérique.\nL’atelier vise aussi à expliquer les grandes lignes des actions à mettre en place pour évoluer vers un numérique plus soutenable\, puis à ouvrir des discussions entre les participant·e·s sur le sujet. Véritable outil de team building\, cet atelier permet de se rassembler pour apprendre ensemble. \nCette édition\, dans le cadre des Semaines de l’Entrepreneuriat Durable s’adressera particulièrement à des entrepreneurs ou responsables d’entreprise désireux de réduire l’impact de leur activité via le levier du numérique. \nTarifs :\nAtelier d’environ 3h\, de 9h à 12h. Pour le bon déroulement de l’atelier\, merci de vous présenter à l’heure.\nLe prix du billet permettra de rémunérer l’intervenant. Possibilité de petit déjeuner durant l’atelier et de poursuivre les discussions autour du repas du midi avec les plats proposés par notre lieu d’accueil Aquiu (à vos frais).\n6 participants minimum\, si le quota n’est pas atteint\, l’atelier sera annulé et les inscrits remboursés. \nLieu et Accessibilité :\nL’atelier se déroulera dans le café Aquiu\, passage carnot à Pau.\nPour vos déplacements\, privilégiez la mobilité douce\, le lieu est accessible en vélo et bus.
URL:https://durableetcie.fr/event/fresque-du-numerique/
LOCATION:Aquiu\, 28 rue Carnot\, Pau\, 64000\, France
CATEGORIES:Ateliers pratiques
ATTACH;FMTTYPE=image/png:https://durableetcie.fr/wp-content/uploads/2023/09/0928-FNum-S.png
ORGANIZER;CN="Durable%20%26%20Cie":MAILTO:contact@bettydufour.fr
END:VEVENT
END:VCALENDAR