BEGIN:VCALENDAR
VERSION:2.0
PRODID:-//Durable &#038; Cie - ECPv6.2.0.1//NONSGML v1.0//EN
CALSCALE:GREGORIAN
METHOD:PUBLISH
X-ORIGINAL-URL:https://durableetcie.fr
X-WR-CALDESC:évènements pour Durable &#038; Cie
REFRESH-INTERVAL;VALUE=DURATION:PT1H
X-Robots-Tag:noindex
X-PUBLISHED-TTL:PT1H
BEGIN:VTIMEZONE
TZID:Europe/Zurich
BEGIN:DAYLIGHT
TZOFFSETFROM:+0100
TZOFFSETTO:+0200
TZNAME:CEST
DTSTART:20230326T010000
END:DAYLIGHT
BEGIN:STANDARD
TZOFFSETFROM:+0200
TZOFFSETTO:+0100
TZNAME:CET
DTSTART:20231029T010000
END:STANDARD
END:VTIMEZONE
BEGIN:VEVENT
DTSTART;TZID=Europe/Zurich:20230920T091500
DTEND;TZID=Europe/Zurich:20230920T123000
DTSTAMP:20260423T224731
CREATED:20230908T075007Z
LAST-MODIFIED:20230908T075231Z
UID:28981-1695201300-1695213000@durableetcie.fr
SUMMARY:Fresque de l'Alimentation
DESCRIPTION:Inscription obligatoire avant le 19/09 : https://www.billetweb.fr/fresque-de-lalimentation3 \nDécouvrez au travers d’un atelier ludique et collaboratif les enjeux environnementaux\, sanitaires et sociaux liés à notre alimentation. Manger et entreprendre: le sujet est rarement évoqué et pourtant les entrepreneurs -ses que nous sommes ont besoin d’être en bonne santé pour mener à bien leurs projets. Par ailleurs\, le repas d’affaire pourrait devenir le moyen de sensibiliser nos parties prenantes pour un monde plus juste. \nL’objectif de la fresque de l’alimentation est de vous aider: \n\nà comprendre les liens entre manger et dérèglement climatique\, perte de la biodiversité et santé humaine\nà mieux définir les principes d’une alimentation saine et durable\nà agir individuellement et collectivement grâce à des objectifs concrets.\n\nPrix :\nAtelier d’environ 3h\, de 9h15 à 12h30. Pour le bon déroulement de l’atelier\, merci de vous présenter à l’heure. \nA la suite de l’atelier\, Sylvie vous propose de rester poursuivre les échanges en dégustant un plat du jour qu’elle vous aura concocté. 9€ supplémentaire\, réservation obligatoire à l’avance en choisissant le Billet “Atelier + plat du jour” \n4 participants minimum\, si le quota n’est pas atteint\, l’atelier sera annulé et les inscrits remboursés. \nLieu et Accessibilité :\nL’atelier se déroulera dans la salle du bistrot de la Cueillette de l’Aragnon\, route de Pau à Montardon. \nPour vos déplacements\, privilégiez la mobilité douce : vélo\, bus (lignes 6\, 10\, 16\, 17 : arrêt Ayguelongue + 10 min de marche ou ligne 16 : arrêt Lycée Agricole + 8 min de marche)\, ou covoiturage avec d’autres participant.e.s via la plateforme : https://covievent.org/covoiturage/fresque-de-l-alimentation/00ae0f9c3eb6a7040fc7b6e7fe55e00f
URL:https://durableetcie.fr/event/fresque-de-lalimentation/
LOCATION:Cueillette de l’Aragnon\, route de Pau\, Montardon\, 64121
CATEGORIES:Ateliers pratiques
ATTACH;FMTTYPE=image/png:https://durableetcie.fr/wp-content/uploads/2023/08/0920-FAlim-S.png
ORGANIZER;CN="Durable%20%26%20Cie":MAILTO:contact@bettydufour.fr
END:VEVENT
BEGIN:VEVENT
DTSTART;TZID=Europe/Zurich:20230926T120000
DTEND;TZID=Europe/Zurich:20230926T140000
DTSTAMP:20260423T224731
CREATED:20230908T081101Z
LAST-MODIFIED:20230908T082032Z
UID:28996-1695729600-1695736800@durableetcie.fr
SUMMARY:Entrepreneur·es\, TPE : alignez vos modes de communication avec vos engagements
DESCRIPTION:Inscription obligatoire avant le 25/09 : https://www.billetweb.fr/entrepreneur-es-tpe-alignez-vos-modes-de-communication-avec-vos-engagements \nCet atelier a pour but de vous faire comprendre les problématiques liées à vos supports de communication (impact environnemental et social) et de réfléchir ensemble\, de façon concrète et adaptée à vos situations propres\, à comment minimiser les « dommages collatéraux » induits par vos choix de communication. Et ce en tenant compte de votre principale contrainte : vous n’avez pas franchement de budget dédié et gérez vous-même votre communication. \nPrix :\nAtelier à prix libre et conscient\, les fonds recueillis serviront à rémunérer l’intervenante.\nPossibilité de donner en réservant votre billet sur la plateforme ou sur place en liquide dans une boîte prévue à cet effet. \nLieu et Accessibilité :\nL’atelier se déroulera dans les locaux de l’Agence de communication responsable Grain Blanc : 18 Allée Lamartine\, 64000 Pau.\nPour vos déplacements\, favorisez la mobilité douce : lieu accessible en vélo et bus
URL:https://durableetcie.fr/event/entrepreneur%c2%b7es-tpe-alignez-vos-modes-de-communication-avec-vos-engagements/
LOCATION:Agence Grain Blanc\, Allée Lamartine\, Pau\, 64000
CATEGORIES:Ateliers pratiques
ATTACH;FMTTYPE=image/png:https://durableetcie.fr/wp-content/uploads/2023/08/0926-ECom-S.png
ORGANIZER;CN="Durable%20%26%20Cie":MAILTO:contact@bettydufour.fr
END:VEVENT
BEGIN:VEVENT
DTSTART;TZID=Europe/Zurich:20230928T090000
DTEND;TZID=Europe/Zurich:20230928T120000
DTSTAMP:20260423T224731
CREATED:20230912T094241Z
LAST-MODIFIED:20230912T094241Z
UID:29026-1695891600-1695902400@durableetcie.fr
SUMMARY:Fresque du Numérique
DESCRIPTION:Inscription obligatoire avant le 27/09 : https://www.billetweb.fr/fresque-du-numerique8 \nLa Fresque du Numérique est un atelier ludique et collaboratif dont le but est de sensibiliser et former les participant·e·s aux enjeux environnementaux du numérique.\nL’atelier vise aussi à expliquer les grandes lignes des actions à mettre en place pour évoluer vers un numérique plus soutenable\, puis à ouvrir des discussions entre les participant·e·s sur le sujet. Véritable outil de team building\, cet atelier permet de se rassembler pour apprendre ensemble. \nCette édition\, dans le cadre des Semaines de l’Entrepreneuriat Durable s’adressera particulièrement à des entrepreneurs ou responsables d’entreprise désireux de réduire l’impact de leur activité via le levier du numérique. \nTarifs :\nAtelier d’environ 3h\, de 9h à 12h. Pour le bon déroulement de l’atelier\, merci de vous présenter à l’heure.\nLe prix du billet permettra de rémunérer l’intervenant. Possibilité de petit déjeuner durant l’atelier et de poursuivre les discussions autour du repas du midi avec les plats proposés par notre lieu d’accueil Aquiu (à vos frais).\n6 participants minimum\, si le quota n’est pas atteint\, l’atelier sera annulé et les inscrits remboursés. \nLieu et Accessibilité :\nL’atelier se déroulera dans le café Aquiu\, passage carnot à Pau.\nPour vos déplacements\, privilégiez la mobilité douce\, le lieu est accessible en vélo et bus.
URL:https://durableetcie.fr/event/fresque-du-numerique/
LOCATION:Aquiu\, 28 rue Carnot\, Pau\, 64000\, France
CATEGORIES:Ateliers pratiques
ATTACH;FMTTYPE=image/png:https://durableetcie.fr/wp-content/uploads/2023/09/0928-FNum-S.png
ORGANIZER;CN="Durable%20%26%20Cie":MAILTO:contact@bettydufour.fr
END:VEVENT
END:VCALENDAR